BEGIN:VCALENDAR
VERSION:2.0
PRODID:-//St. Pauls Episcopal Church - ECPv6.14.0//NONSGML v1.0//EN
CALSCALE:GREGORIAN
METHOD:PUBLISH
X-WR-CALNAME:St. Pauls Episcopal Church
X-ORIGINAL-URL:https://www.stpaulslynchburg.org
X-WR-CALDESC:Events for St. Pauls Episcopal Church
REFRESH-INTERVAL;VALUE=DURATION:PT1H
X-Robots-Tag:noindex
X-PUBLISHED-TTL:PT1H
BEGIN:VTIMEZONE
TZID:America/New_York
BEGIN:DAYLIGHT
TZOFFSETFROM:-0500
TZOFFSETTO:-0400
TZNAME:EDT
DTSTART:20260308T070000
END:DAYLIGHT
BEGIN:STANDARD
TZOFFSETFROM:-0400
TZOFFSETTO:-0500
TZNAME:EST
DTSTART:20261101T060000
END:STANDARD
END:VTIMEZONE
BEGIN:VEVENT
DTSTART;VALUE=DATE:20260119
DTEND;VALUE=DATE:20260120
DTSTAMP:20260420T041713
CREATED:20250821T164358Z
LAST-MODIFIED:20250821T164358Z
UID:10002384-1768780800-1768867199@www.stpaulslynchburg.org
SUMMARY:Office Closed in observance of Martin Luther King\, Jr. Day
DESCRIPTION:
URL:https://www.stpaulslynchburg.org/event/office-closed-in-observance-of-martin-luther-king-jr-day/
END:VEVENT
BEGIN:VEVENT
DTSTART;TZID=America/New_York:20260120T190000
DTEND;TZID=America/New_York:20260120T210000
DTSTAMP:20260420T041713
CREATED:20250806T141137Z
LAST-MODIFIED:20260324T130531Z
UID:10002281-1768935600-1768942800@www.stpaulslynchburg.org
SUMMARY:The Seven Hills Chorus rehearsals
DESCRIPTION:
URL:https://www.stpaulslynchburg.org/event/the-seven-hills-chorus-rehearsals/2026-01-20/
LOCATION:The Undercroft\, United States
ORGANIZER;CN="Ryan Davis":MAILTO:rcdavis404@gmail.com
END:VEVENT
BEGIN:VEVENT
DTSTART;TZID=America/New_York:20260121T113000
DTEND;TZID=America/New_York:20260121T130000
DTSTAMP:20260420T041713
CREATED:20250806T135229Z
LAST-MODIFIED:20260213T135816Z
UID:10002242-1768995000-1769000400@www.stpaulslynchburg.org
SUMMARY:Westminster Canterbury luncheon w/clergy
DESCRIPTION:
URL:https://www.stpaulslynchburg.org/event/westminster-canterbury-luncheon-w-clergy/2026-01-21/
LOCATION:Westminster Canterbury\, 501 V.E.S Road\, Lynchburg\, VA\, 24503
END:VEVENT
BEGIN:VEVENT
DTSTART;VALUE=DATE:20260125
DTEND;VALUE=DATE:20260126
DTSTAMP:20260420T041713
CREATED:20250723T165456Z
LAST-MODIFIED:20250723T165456Z
UID:10002225-1769299200-1769385599@www.stpaulslynchburg.org
SUMMARY:No services this Sunday ~ Diocesan Convention
DESCRIPTION:
URL:https://www.stpaulslynchburg.org/event/no-services-this-sunday-diocesan-convention/
END:VEVENT
BEGIN:VEVENT
DTSTART;TZID=America/New_York:20260127T190000
DTEND;TZID=America/New_York:20260127T210000
DTSTAMP:20260420T041713
CREATED:20250806T141137Z
LAST-MODIFIED:20260324T130531Z
UID:10002282-1769540400-1769547600@www.stpaulslynchburg.org
SUMMARY:The Seven Hills Chorus rehearsals
DESCRIPTION:
URL:https://www.stpaulslynchburg.org/event/the-seven-hills-chorus-rehearsals/2026-01-27/
LOCATION:The Undercroft\, United States
ORGANIZER;CN="Ryan Davis":MAILTO:rcdavis404@gmail.com
END:VEVENT
BEGIN:VEVENT
DTSTART;TZID=America/New_York:20260201T080000
DTEND;TZID=America/New_York:20260201T084500
DTSTAMP:20260420T041713
CREATED:20250723T165310Z
LAST-MODIFIED:20260324T130742Z
UID:10002186-1769932800-1769935500@www.stpaulslynchburg.org
SUMMARY:Holy Eucharist - spoken
DESCRIPTION:
URL:https://www.stpaulslynchburg.org/event/holy-eucharist-poken/2026-02-01/
LOCATION:The Church\, 605 Clay Street\, Lynchburg\, VA
END:VEVENT
BEGIN:VEVENT
DTSTART;TZID=America/New_York:20260201T100000
DTEND;TZID=America/New_York:20260201T110000
DTSTAMP:20260420T041713
CREATED:20250723T165412Z
LAST-MODIFIED:20260324T130702Z
UID:10002207-1769940000-1769943600@www.stpaulslynchburg.org
SUMMARY:Choral Holy Eucharist
DESCRIPTION:
URL:https://www.stpaulslynchburg.org/event/choral-holy-eucharist-4/2026-02-01/
LOCATION:The Church\, 605 Clay Street\, Lynchburg\, VA
END:VEVENT
BEGIN:VEVENT
DTSTART;TZID=America/New_York:20260201T100000
DTEND;TZID=America/New_York:20260201T110000
DTSTAMP:20260420T041713
CREATED:20250821T144247Z
LAST-MODIFIED:20250821T164457Z
UID:10002362-1769940000-1769943600@www.stpaulslynchburg.org
SUMMARY:Catechesis of the Good Shepherd
DESCRIPTION:
URL:https://www.stpaulslynchburg.org/event/catechesis-of-the-good-shepherd/2026-02-01/
LOCATION:Christian Ed.Building\, 2nd floor
ORGANIZER;CN="Cindy Mock":MAILTO:cynthia.mock@verizon.net
END:VEVENT
BEGIN:VEVENT
DTSTART;TZID=America/New_York:20260201T170000
DTEND;TZID=America/New_York:20260201T180000
DTSTAMP:20260420T041713
CREATED:20250723T163150Z
LAST-MODIFIED:20250723T163150Z
UID:10002164-1769965200-1769968800@www.stpaulslynchburg.org
SUMMARY:Celtic Evening Prayer & Holy Eucharist
DESCRIPTION:
URL:https://www.stpaulslynchburg.org/event/celtic-evening-prayer-holy-eucharist/2026-02-01/
LOCATION:The Church\, 605 Clay Street\, Lynchburg\, VA
END:VEVENT
BEGIN:VEVENT
DTSTART;TZID=America/New_York:20260203T190000
DTEND;TZID=America/New_York:20260203T210000
DTSTAMP:20260420T041713
CREATED:20250806T141137Z
LAST-MODIFIED:20260324T130531Z
UID:10002283-1770145200-1770152400@www.stpaulslynchburg.org
SUMMARY:The Seven Hills Chorus rehearsals
DESCRIPTION:
URL:https://www.stpaulslynchburg.org/event/the-seven-hills-chorus-rehearsals/2026-02-03/
LOCATION:The Undercroft\, United States
ORGANIZER;CN="Ryan Davis":MAILTO:rcdavis404@gmail.com
END:VEVENT
BEGIN:VEVENT
DTSTART;TZID=America/New_York:20260205T103000
DTEND;TZID=America/New_York:20260205T120000
DTSTAMP:20260420T041713
CREATED:20260203T165654Z
LAST-MODIFIED:20260203T165923Z
UID:10002537-1770287400-1770292800@www.stpaulslynchburg.org
SUMMARY:Epiphany Bible Study
DESCRIPTION:
URL:https://www.stpaulslynchburg.org/event/epiphany-bible-study/2026-02-05/
LOCATION:Gilchrist Room
END:VEVENT
BEGIN:VEVENT
DTSTART;TZID=America/New_York:20260205T190000
DTEND;TZID=America/New_York:20260205T210000
DTSTAMP:20260420T041713
CREATED:20260203T165032Z
LAST-MODIFIED:20260203T165754Z
UID:10002473-1770318000-1770325200@www.stpaulslynchburg.org
SUMMARY:Seven Hills Chamber Choir
DESCRIPTION:
URL:https://www.stpaulslynchburg.org/event/seven-hills-chamber-choir-2/2026-02-05/
LOCATION:The Undercroft\, United States
END:VEVENT
BEGIN:VEVENT
DTSTART;TZID=America/New_York:20260208T080000
DTEND;TZID=America/New_York:20260208T084500
DTSTAMP:20260420T041713
CREATED:20250723T165310Z
LAST-MODIFIED:20260324T130742Z
UID:10002187-1770537600-1770540300@www.stpaulslynchburg.org
SUMMARY:Holy Eucharist - spoken
DESCRIPTION:
URL:https://www.stpaulslynchburg.org/event/holy-eucharist-poken/2026-02-08/
LOCATION:The Church\, 605 Clay Street\, Lynchburg\, VA
END:VEVENT
BEGIN:VEVENT
DTSTART;TZID=America/New_York:20260208T100000
DTEND;TZID=America/New_York:20260208T110000
DTSTAMP:20260420T041713
CREATED:20250723T165412Z
LAST-MODIFIED:20260324T130702Z
UID:10002208-1770544800-1770548400@www.stpaulslynchburg.org
SUMMARY:Choral Holy Eucharist
DESCRIPTION:
URL:https://www.stpaulslynchburg.org/event/choral-holy-eucharist-4/2026-02-08/
LOCATION:The Church\, 605 Clay Street\, Lynchburg\, VA
END:VEVENT
BEGIN:VEVENT
DTSTART;TZID=America/New_York:20260208T100000
DTEND;TZID=America/New_York:20260208T110000
DTSTAMP:20260420T041713
CREATED:20250821T144247Z
LAST-MODIFIED:20250821T164457Z
UID:10002363-1770544800-1770548400@www.stpaulslynchburg.org
SUMMARY:Catechesis of the Good Shepherd
DESCRIPTION:
URL:https://www.stpaulslynchburg.org/event/catechesis-of-the-good-shepherd/2026-02-08/
LOCATION:Christian Ed.Building\, 2nd floor
ORGANIZER;CN="Cindy Mock":MAILTO:cynthia.mock@verizon.net
END:VEVENT
BEGIN:VEVENT
DTSTART;TZID=America/New_York:20260210T103000
DTEND;TZID=America/New_York:20260210T120000
DTSTAMP:20260420T041713
CREATED:20250806T135041Z
LAST-MODIFIED:20250806T135515Z
UID:10002233-1770719400-1770724800@www.stpaulslynchburg.org
SUMMARY:St. Paul's Reads ~ a book discussion group
DESCRIPTION:
URL:https://www.stpaulslynchburg.org/event/st-pauls-reads-a-book-discussion-group-2/2026-02-10/
LOCATION:Gilchrist Room
ORGANIZER;CN="Anne McKenna":MAILTO:armck1@aol.com
END:VEVENT
BEGIN:VEVENT
DTSTART;TZID=America/New_York:20260210T190000
DTEND;TZID=America/New_York:20260210T210000
DTSTAMP:20260420T041713
CREATED:20250806T141137Z
LAST-MODIFIED:20260324T130531Z
UID:10002284-1770750000-1770757200@www.stpaulslynchburg.org
SUMMARY:The Seven Hills Chorus rehearsals
DESCRIPTION:
URL:https://www.stpaulslynchburg.org/event/the-seven-hills-chorus-rehearsals/2026-02-10/
LOCATION:The Undercroft\, United States
ORGANIZER;CN="Ryan Davis":MAILTO:rcdavis404@gmail.com
END:VEVENT
BEGIN:VEVENT
DTSTART;TZID=America/New_York:20260212T103000
DTEND;TZID=America/New_York:20260212T120000
DTSTAMP:20260420T041713
CREATED:20260203T165654Z
LAST-MODIFIED:20260203T165923Z
UID:10002538-1770892200-1770897600@www.stpaulslynchburg.org
SUMMARY:Epiphany Bible Study
DESCRIPTION:
URL:https://www.stpaulslynchburg.org/event/epiphany-bible-study/2026-02-12/
LOCATION:Gilchrist Room
END:VEVENT
BEGIN:VEVENT
DTSTART;TZID=America/New_York:20260212T190000
DTEND;TZID=America/New_York:20260212T210000
DTSTAMP:20260420T041713
CREATED:20260203T165032Z
LAST-MODIFIED:20260203T165754Z
UID:10002474-1770922800-1770930000@www.stpaulslynchburg.org
SUMMARY:Seven Hills Chamber Choir
DESCRIPTION:
URL:https://www.stpaulslynchburg.org/event/seven-hills-chamber-choir-2/2026-02-12/
LOCATION:The Undercroft\, United States
END:VEVENT
BEGIN:VEVENT
DTSTART;TZID=America/New_York:20260214T090000
DTEND;TZID=America/New_York:20260214T130000
DTSTAMP:20260420T041713
CREATED:20260213T140008Z
LAST-MODIFIED:20260213T140008Z
UID:10002541-1771059600-1771074000@www.stpaulslynchburg.org
SUMMARY:Vestry Work Day
DESCRIPTION:
URL:https://www.stpaulslynchburg.org/event/vestry-work-day/
LOCATION:Carriage House\, 605 Clay St\, Lynchburg\, VA\, 24504\, United States
END:VEVENT
BEGIN:VEVENT
DTSTART;TZID=America/New_York:20260215T080000
DTEND;TZID=America/New_York:20260215T084500
DTSTAMP:20260420T041713
CREATED:20250723T165310Z
LAST-MODIFIED:20260324T130742Z
UID:10002188-1771142400-1771145100@www.stpaulslynchburg.org
SUMMARY:Holy Eucharist - spoken
DESCRIPTION:
URL:https://www.stpaulslynchburg.org/event/holy-eucharist-poken/2026-02-15/
LOCATION:The Church\, 605 Clay Street\, Lynchburg\, VA
END:VEVENT
BEGIN:VEVENT
DTSTART;TZID=America/New_York:20260215T084500
DTEND;TZID=America/New_York:20260215T094500
DTSTAMP:20260420T041713
CREATED:20260205T170034Z
LAST-MODIFIED:20260205T173700Z
UID:10002539-1771145100-1771148700@www.stpaulslynchburg.org
SUMMARY:Pancake Breakfast
DESCRIPTION:
URL:https://www.stpaulslynchburg.org/event/pancake-breakfast/
LOCATION:The Undercroft\, United States
END:VEVENT
BEGIN:VEVENT
DTSTART;TZID=America/New_York:20260215T100000
DTEND;TZID=America/New_York:20260215T110000
DTSTAMP:20260420T041713
CREATED:20250723T165412Z
LAST-MODIFIED:20260324T130702Z
UID:10002209-1771149600-1771153200@www.stpaulslynchburg.org
SUMMARY:Choral Holy Eucharist
DESCRIPTION:
URL:https://www.stpaulslynchburg.org/event/choral-holy-eucharist-4/2026-02-15/
LOCATION:The Church\, 605 Clay Street\, Lynchburg\, VA
END:VEVENT
BEGIN:VEVENT
DTSTART;TZID=America/New_York:20260215T100000
DTEND;TZID=America/New_York:20260215T110000
DTSTAMP:20260420T041713
CREATED:20250821T144247Z
LAST-MODIFIED:20250821T164457Z
UID:10002364-1771149600-1771153200@www.stpaulslynchburg.org
SUMMARY:Catechesis of the Good Shepherd
DESCRIPTION:
URL:https://www.stpaulslynchburg.org/event/catechesis-of-the-good-shepherd/2026-02-15/
LOCATION:Christian Ed.Building\, 2nd floor
ORGANIZER;CN="Cindy Mock":MAILTO:cynthia.mock@verizon.net
END:VEVENT
BEGIN:VEVENT
DTSTART;TZID=America/New_York:20260215T140000
DTEND;TZID=America/New_York:20260215T150000
DTSTAMP:20260420T041713
CREATED:20260213T155837Z
LAST-MODIFIED:20260213T155837Z
UID:10002587-1771164000-1771167600@www.stpaulslynchburg.org
SUMMARY:Marianne Rhodes' funeral
DESCRIPTION:
URL:https://www.stpaulslynchburg.org/event/marianne-rhodes-funeral/
LOCATION:The Church\, 605 Clay Street\, Lynchburg\, VA
END:VEVENT
BEGIN:VEVENT
DTSTART;TZID=America/New_York:20260217T183000
DTEND;TZID=America/New_York:20260217T200000
DTSTAMP:20260420T041713
CREATED:20260203T164038Z
LAST-MODIFIED:20260205T165507Z
UID:10002403-1771353000-1771358400@www.stpaulslynchburg.org
SUMMARY:Shrove Tuesday Mardi Gras
DESCRIPTION:
URL:https://www.stpaulslynchburg.org/event/shrove-tuesday-pancake-supper/
LOCATION:The Undercroft\, United States
END:VEVENT
BEGIN:VEVENT
DTSTART;VALUE=DATE:20260218
DTEND;VALUE=DATE:20260219
DTSTAMP:20260420T041713
CREATED:20260202T160812Z
LAST-MODIFIED:20260202T160812Z
UID:10002401-1771372800-1771459199@www.stpaulslynchburg.org
SUMMARY:Ash Wednesday
DESCRIPTION:
URL:https://www.stpaulslynchburg.org/event/ash-wednesday/
END:VEVENT
BEGIN:VEVENT
DTSTART;TZID=America/New_York:20260218T120000
DTEND;TZID=America/New_York:20260218T130000
DTSTAMP:20260420T041713
CREATED:20260213T135915Z
LAST-MODIFIED:20260213T135915Z
UID:10002540-1771416000-1771419600@www.stpaulslynchburg.org
SUMMARY:Imposition of Ashes & Holy Eucharist
DESCRIPTION:
URL:https://www.stpaulslynchburg.org/event/imposition-of-ashes-holy-eucharist-2/
LOCATION:The Church\, 605 Clay Street\, Lynchburg\, VA
END:VEVENT
BEGIN:VEVENT
DTSTART;TZID=America/New_York:20260218T173000
DTEND;TZID=America/New_York:20260218T183000
DTSTAMP:20260420T041713
CREATED:20260202T160859Z
LAST-MODIFIED:20260202T160859Z
UID:10002402-1771435800-1771439400@www.stpaulslynchburg.org
SUMMARY:Imposition of Ashes & Holy Eucharist
DESCRIPTION:
URL:https://www.stpaulslynchburg.org/event/imposition-of-ashes-holy-eucharist/
LOCATION:The Church\, 605 Clay Street\, Lynchburg\, VA
END:VEVENT
BEGIN:VEVENT
DTSTART;TZID=America/New_York:20260219T103000
DTEND;TZID=America/New_York:20260219T120000
DTSTAMP:20260420T041713
CREATED:20260213T140737Z
LAST-MODIFIED:20260213T140737Z
UID:10002574-1771497000-1771502400@www.stpaulslynchburg.org
SUMMARY:Ruth: A Memory of the Future
DESCRIPTION:
URL:https://www.stpaulslynchburg.org/event/ruth-a-memory-of-the-future/
LOCATION:Gilchrist Room
END:VEVENT
END:VCALENDAR